BEGIN:VCALENDAR
VERSION:2.0
PRODID:-// - ECPv6.15.20//NONSGML v1.0//EN
CALSCALE:GREGORIAN
METHOD:PUBLISH
X-ORIGINAL-URL:https://scagritourism.org
X-WR-CALDESC:Events for 
REFRESH-INTERVAL;VALUE=DURATION:PT1H
X-Robots-Tag:noindex
X-PUBLISHED-TTL:PT1H
BEGIN:VTIMEZONE
TZID:America/New_York
BEGIN:DAYLIGHT
TZOFFSETFROM:-0500
TZOFFSETTO:-0400
TZNAME:EDT
DTSTART:20230312T070000
END:DAYLIGHT
BEGIN:STANDARD
TZOFFSETFROM:-0400
TZOFFSETTO:-0500
TZNAME:EST
DTSTART:20231105T060000
END:STANDARD
BEGIN:DAYLIGHT
TZOFFSETFROM:-0500
TZOFFSETTO:-0400
TZNAME:EDT
DTSTART:20240310T070000
END:DAYLIGHT
BEGIN:STANDARD
TZOFFSETFROM:-0400
TZOFFSETTO:-0500
TZNAME:EST
DTSTART:20241103T060000
END:STANDARD
BEGIN:DAYLIGHT
TZOFFSETFROM:-0500
TZOFFSETTO:-0400
TZNAME:EDT
DTSTART:20250309T070000
END:DAYLIGHT
BEGIN:STANDARD
TZOFFSETFROM:-0400
TZOFFSETTO:-0500
TZNAME:EST
DTSTART:20251102T060000
END:STANDARD
END:VTIMEZONE
BEGIN:VEVENT
DTSTART;TZID=America/New_York:20240622T180000
DTEND;TZID=America/New_York:20240622T200000
DTSTAMP:20260421T084625
CREATED:20240529T200826Z
LAST-MODIFIED:20240529T200826Z
UID:4269-1719079200-1719086400@scagritourism.org
SUMMARY:Date Night in the Lavender with Pilgrims Bluegrass
DESCRIPTION:Pilgrims Bluegrass returns to Elf Leaf Farm for another magical evening of entertainment.  Each couple will receive an apple crate filled with a bottle of wine of your choice\, wine glasses\, a charcuterie box for two and a picnic blanket.  Please feel free to bring your own lawn chairs.  Each ticket provides entry to two people\, 21+.
URL:https://scagritourism.org/event/date-night-in-the-lavender-with-pilgrims-bluegrass/
LOCATION:Elf Leaf Farm\, 141 N Campbell Rd\, Landrum\, SC\, 29356\, United States
ORGANIZER;CN="Elf Leaf Farm":MAILTO:allison@elfleaffarm.com
END:VEVENT
END:VCALENDAR