BEGIN:VCALENDAR
VERSION:2.0
PRODID:-// - ECPv6.15.20//NONSGML v1.0//EN
CALSCALE:GREGORIAN
METHOD:PUBLISH
X-ORIGINAL-URL:https://scagritourism.org
X-WR-CALDESC:Events for 
REFRESH-INTERVAL;VALUE=DURATION:PT1H
X-Robots-Tag:noindex
X-PUBLISHED-TTL:PT1H
BEGIN:VTIMEZONE
TZID:America/New_York
BEGIN:DAYLIGHT
TZOFFSETFROM:-0500
TZOFFSETTO:-0400
TZNAME:EDT
DTSTART:20240310T070000
END:DAYLIGHT
BEGIN:STANDARD
TZOFFSETFROM:-0400
TZOFFSETTO:-0500
TZNAME:EST
DTSTART:20241103T060000
END:STANDARD
BEGIN:DAYLIGHT
TZOFFSETFROM:-0500
TZOFFSETTO:-0400
TZNAME:EDT
DTSTART:20250309T070000
END:DAYLIGHT
BEGIN:STANDARD
TZOFFSETFROM:-0400
TZOFFSETTO:-0500
TZNAME:EST
DTSTART:20251102T060000
END:STANDARD
BEGIN:DAYLIGHT
TZOFFSETFROM:-0500
TZOFFSETTO:-0400
TZNAME:EDT
DTSTART:20260308T070000
END:DAYLIGHT
BEGIN:STANDARD
TZOFFSETFROM:-0400
TZOFFSETTO:-0500
TZNAME:EST
DTSTART:20261101T060000
END:STANDARD
END:VTIMEZONE
BEGIN:VEVENT
DTSTART;TZID=America/New_York:20250819T100000
DTEND;TZID=America/New_York:20250819T140000
DTSTAMP:20260424T212125
CREATED:20250604T203345Z
LAST-MODIFIED:20250604T205014Z
UID:7244-1755597600-1755612000@scagritourism.org
SUMMARY:LowCountry Summer Spotlight Gathering
DESCRIPTION:Join us for the LowCountry gathering where we will visit a Certified Roadside Market and view their productions fields\, where they grow vegetables\, flowers and specialty crops.  We will then head over to 4 L’s farm for a wonderful Certified SC grown lunch.  Guest speaker will be Klye Player from the ACRE program that will share how you can fund programs on your farm with free money! It will be a great day of networking and touring SC agritourism farms.
URL:https://scagritourism.org/event/lowcountry-summer-spotlight-gathering/
LOCATION:SC
END:VEVENT
END:VCALENDAR