BEGIN:VCALENDAR
VERSION:2.0
PRODID:-// - ECPv6.15.20//NONSGML v1.0//EN
CALSCALE:GREGORIAN
METHOD:PUBLISH
X-ORIGINAL-URL:https://scagritourism.org
X-WR-CALDESC:Events for 
REFRESH-INTERVAL;VALUE=DURATION:PT1H
X-Robots-Tag:noindex
X-PUBLISHED-TTL:PT1H
BEGIN:VTIMEZONE
TZID:America/New_York
BEGIN:DAYLIGHT
TZOFFSETFROM:-0500
TZOFFSETTO:-0400
TZNAME:EDT
DTSTART:20240310T070000
END:DAYLIGHT
BEGIN:STANDARD
TZOFFSETFROM:-0400
TZOFFSETTO:-0500
TZNAME:EST
DTSTART:20241103T060000
END:STANDARD
BEGIN:DAYLIGHT
TZOFFSETFROM:-0500
TZOFFSETTO:-0400
TZNAME:EDT
DTSTART:20250309T070000
END:DAYLIGHT
BEGIN:STANDARD
TZOFFSETFROM:-0400
TZOFFSETTO:-0500
TZNAME:EST
DTSTART:20251102T060000
END:STANDARD
BEGIN:DAYLIGHT
TZOFFSETFROM:-0500
TZOFFSETTO:-0400
TZNAME:EDT
DTSTART:20260308T070000
END:DAYLIGHT
BEGIN:STANDARD
TZOFFSETFROM:-0400
TZOFFSETTO:-0500
TZNAME:EST
DTSTART:20261101T060000
END:STANDARD
END:VTIMEZONE
BEGIN:VEVENT
DTSTART;TZID=America/New_York:20250823T180000
DTEND;TZID=America/New_York:20250823T203000
DTSTAMP:20260424T160035
CREATED:20250709T125342Z
LAST-MODIFIED:20250709T125342Z
UID:7532-1755972000-1755981000@scagritourism.org
SUMMARY:The Healthy Lowcountry Lady
DESCRIPTION:Farm Friends\, we are excited to announce that our good friend Farante Ager is the guest speaker for our August 23rd\, Farm Event\n“Farante Ager is a graduate of the Graduate Certificate in Complementary Alternative Medicine\, Graduate Certificate in Wellness Consulting\, Graduate Certificate in Holistic Nutrition\, and Master of Science in Health and Wellness.” American College of Healthcare Sciences (ACHS)\nCome hear Farante share about her journey to fulfill her mission of “Supporting Families through Food\, Health\, and Wellness”.\nGuests will hear about her work as a doula and breastfeeding peer counselor who provides her clients with “great knowledge\, support\, and comfort”.\nFarante is married and together she and her husband have three children. Guests will hear how she manages her family’s homeschool schedule\, dietary choices and tastes in a variety of ways from vegan to traditional dishes. Hear about their favorite recipes and how to plan ahead with different foods and preferences are involved.\nThere will be activities for children from the 4-H Healthy Living Project to encourage participation by all members of the family.\nYou can visit Farante’s website by clicking\nThe Healthy Lowcountry Lady\nhttps://www.thehealthylowcountrylady.com/
URL:https://scagritourism.org/event/the-healthy-lowcountry-lady/
LOCATION:Morning Glory Homestead Farm\, 42 Robert and Clara Trail\, St. Helena Island\, SC\, 29920\, United States
ORGANIZER;CN="Morning Glory Homestead Farm%2C LLC.":MAILTO:morninggloryhomestead@gmail.com
END:VEVENT
END:VCALENDAR