BEGIN:VCALENDAR
VERSION:2.0
PRODID:-// - ECPv6.15.20//NONSGML v1.0//EN
CALSCALE:GREGORIAN
METHOD:PUBLISH
X-ORIGINAL-URL:https://scagritourism.org
X-WR-CALDESC:Events for 
REFRESH-INTERVAL;VALUE=DURATION:PT1H
X-Robots-Tag:noindex
X-PUBLISHED-TTL:PT1H
BEGIN:VTIMEZONE
TZID:America/New_York
BEGIN:DAYLIGHT
TZOFFSETFROM:-0500
TZOFFSETTO:-0400
TZNAME:EDT
DTSTART:20240310T070000
END:DAYLIGHT
BEGIN:STANDARD
TZOFFSETFROM:-0400
TZOFFSETTO:-0500
TZNAME:EST
DTSTART:20241103T060000
END:STANDARD
BEGIN:DAYLIGHT
TZOFFSETFROM:-0500
TZOFFSETTO:-0400
TZNAME:EDT
DTSTART:20250309T070000
END:DAYLIGHT
BEGIN:STANDARD
TZOFFSETFROM:-0400
TZOFFSETTO:-0500
TZNAME:EST
DTSTART:20251102T060000
END:STANDARD
BEGIN:DAYLIGHT
TZOFFSETFROM:-0500
TZOFFSETTO:-0400
TZNAME:EDT
DTSTART:20260308T070000
END:DAYLIGHT
BEGIN:STANDARD
TZOFFSETFROM:-0400
TZOFFSETTO:-0500
TZNAME:EST
DTSTART:20261101T060000
END:STANDARD
END:VTIMEZONE
BEGIN:VEVENT
DTSTART;TZID=America/New_York:20250501T193000
DTEND;TZID=America/New_York:20250531T203000
DTSTAMP:20260424T235757
CREATED:20250501T160130Z
LAST-MODIFIED:20250501T160130Z
UID:7052-1746127800-1748723400@scagritourism.org
SUMMARY:Lamb Cuddle & Bottle Time
DESCRIPTION:Lamb Cuddle & Bottle Feeding Experience! 🍼🐑\nJoin us for a heartwarming farm experience designed for families! This special event is perfect for animal lovers of all ages. \nMeet Bux and our newest lamb\, and help bottle-feed them while learning their touching stories. You’ll also have the chance to cuddle with Bux (even after he’s weaned) and connect with other friendly farm animals. \nThis unique activity is a great way to relax\, make memories\, and enjoy the beauty of farm life in a fun\, interactive setting! \n📅 Date: Daily (except Sundays and Mondays)\n⏰ Time: \n\nMARCH : 01:00 PM – 02:00 PM\nAPRIL and MAY: 06:30 PM – 07:30 PM (In April\, only our new lamb will be bottle-fed\, but Bux will still be available for cuddles! Stay tuned for additional dates!)\n\n📍 Location: Outside Inn Camp + Farm\n💲 Cost: $29 per family \nThings to Note:\n🐑 This event is open to everyone!\n🐑 Be prepared for hands-on fun—it may get a little messy!\n🐑 Please respect campers while enjoying the farm.\n🐑 Spaces are limited\, so don’t miss your chance to snuggle up with Bux and our newest lamb! \nWe can’t wait to see you at the farm! 🐑❤️
URL:https://scagritourism.org/event/lamb-cuddle-bottle-time/
LOCATION:Outside Inn Campground\, 1074 Woolbright Road\, Santee\, S\, 29142\, United States
ORGANIZER;CN="Outside Inn Campground":MAILTO:stay@outsideinncampground.com
END:VEVENT
BEGIN:VEVENT
DTSTART;TZID=America/New_York:20250511T110000
DTEND;TZID=America/New_York:20250511T130000
DTSTAMP:20260424T235757
CREATED:20250501T155939Z
LAST-MODIFIED:20250501T155939Z
UID:7046-1746961200-1746968400@scagritourism.org
SUMMARY:Pots & Petals: A Mother's Day Celebration at the Farm
DESCRIPTION:🌸 Pots & Petals: A Mother’s Day Celebration at the Farm 🌸\nDate: May 11\, 2025\nTime: 11:00 AM – 1:00 PM\nLocation: Outside Inn Campground \nTreat Mom to a creative and heartwarming day at the farm this Mother’s Day! Join us for “Pots & Petals\,” a relaxing and fun-filled pot decorating experience where each guest receives a beautiful plant and pot to personalize and take home. \n🎨 What’s Included – $40 per registration: \n\nOne plant and pot for decorating\nAccess to all decorating materials and supplies\nFull access to enjoy the farm: visit friendly animals\, explore scenic trails\, and relax with your family\n\n👨‍👩‍👧‍👦 Bringing extra little ones?\nNo problem! Additional kids can join in the fun for just $15 each (no plant/pot included\, but full access to animals\, trails & activities). \n🍓 Feel free to bring your own snacks\, drinks\, or picnic and make the most of your farm day! Tables will be available for you to relax and enjoy. \n🐐 Say hi to our adorable animals—like Fred the Highland cow\, Poppy the goat\, and Bux the cuddly lamb!
URL:https://scagritourism.org/event/pots-petals-a-mothers-day-celebration-at-the-farm/
LOCATION:Outside Inn Campground\, 1074 Woolbright Road\, Santee\, S\, 29142\, United States
ORGANIZER;CN="Outside Inn Campground":MAILTO:stay@outsideinncampground.com
END:VEVENT
BEGIN:VEVENT
DTSTART;TZID=America/New_York:20250530T193000
DTEND;TZID=America/New_York:20250530T203000
DTSTAMP:20260424T235757
CREATED:20250501T160013Z
LAST-MODIFIED:20250501T160013Z
UID:7048-1748633400-1748637000@scagritourism.org
SUMMARY:Yoga with Goats
DESCRIPTION:Yoga with Goats at Outside Inn Campground 🧘‍♀️🐐 \nRelax\, stretch\, and giggle with our playful goats!\nJoin us for a one-of-a-kind outdoor yoga experience where relaxation meets farm fun. Our friendly goats will roam freely\, adding joy\, laughter\, and a little extra challenge to your poses. Whether you’re a seasoned yogi or a beginner\, this class is all about connecting with nature\, animals\, and yourself. \n📅 Upcoming Dates & Times: \n\nFriday\, May 30 (Sunset Yoga) – 7:30 PM to 8:30 PM\nSaturday\, June 7 (Morning Yoga) – 9:00 AM to 10:00 AM\n\n📍 Location: Outside Inn Campground\n💲 Cost: \n\n$25 per person\n$20 for guests staying at Outside Inn\n\nWhat to Expect:\n✔️ A beginner-friendly yoga session in a peaceful outdoor setting\n✔️ Goats roaming\, interacting\, and maybe even climbing on you!\n✔️ Plenty of time for goat snuggles and fun photos\n✔️ A unique and joyful way to start or end your day \nThings to Bring:\n🧘‍♂️ A yoga mat or towel\n👕 Comfortable clothes (that can handle a little goat love!)\n🌞 A playful spirit and love for animals \n📢 Important Notes:\nThis event is weather-dependent; we will notify attendees of any changes.\nSpaces are limited\, so reserve your spot today! \nWe can’t wait to flow\, stretch\, and laugh with you at Yoga with Goats! 🐐💛
URL:https://scagritourism.org/event/yoga-with-goats/
LOCATION:Outside Inn Campground\, 1074 Woolbright Road\, Santee\, S\, 29142\, United States
ORGANIZER;CN="Outside Inn Campground":MAILTO:stay@outsideinncampground.com
END:VEVENT
END:VCALENDAR